Workbook

Sheet صناعي مختلط
A1: تحليل مؤشرات مجموع القطاع الصناعي المختلط لسنة 2023
A2: جدول (1) | F2: ألف دينار
A3: التسلسل | B3: المفــــــــــــــــــــــــردات | C3: المبلــــــغ | D3: التسلسل | E3: المفـــــــــــــــــــــــردات | F3: المبلـــــغ
A4: 1 | B4: رأس المال المدفوع | C4: ='[1]نشاط 1 '!C4+'[1]نشاط 2'!C4+'[1]نشاط رقم3'!C4+'[1]نشاط رقم 4'!C4+'[1]نشاط رقم 5'!C4+'[1]نشاط رقم 6'!C4+'[1]نشاط 7'!C4 -> 106844216 | D4: 28 | E4: الأضافات السنوية للموجودات الثابتة | F4: ='[1]نشاط 1 '!F4+'[1]نشاط 2'!F4+'[1]نشاط رقم3'!F4+'[1]نشاط رقم 4'!F4+'[1]نشاط رقم 5'!F4+'[1]نشاط رقم 6'!F4+'[1]نشاط 7'!F4 -> 17185414
A5: 2 | B5: الأحتياطيات | C5: ='[1]نشاط 1 '!C5+'[1]نشاط 2'!C5+'[1]نشاط رقم3'!C5+'[1]نشاط رقم 4'!C5+'[1]نشاط رقم 5'!C5+'[1]نشاط رقم 6'!C5+'[1]نشاط 7'!C5 -> 18448572 | D5: 29 | E5: مخزون أول المدة (30+31) | F5: ='[1]نشاط 1 '!F5+'[1]نشاط 2'!F5+'[1]نشاط رقم3'!F5+'[1]نشاط رقم 4'!F5+'[1]نشاط رقم 5'!F5+'[1]نشاط رقم 6'!F5+'[1]نشاط 7'!F5 -> 9085262
A6: 3 | B6: أحتياطي أستبدال الموجودات الثابتة | C6: ='[1]نشاط 1 '!C6+'[1]نشاط 2'!C6+'[1]نشاط رقم3'!C6+'[1]نشاط رقم 4'!C6+'[1]نشاط رقم 5'!C6+'[1]نشاط رقم 6'!C6+'[1]نشاط 7'!C6 -> 0 | D6: 30 | E6: بضاعة تحت الصنع وتامة الصنع | F6: ='[1]نشاط 1 '!F6+'[1]نشاط 2'!F6+'[1]نشاط رقم3'!F6+'[1]نشاط رقم 4'!F6+'[1]نشاط رقم 5'!F6+'[1]نشاط رقم 6'!F6+'[1]نشاط 7'!F6 -> 3891619
A7: 4 | B7: حق الملكية (1+ 2 + 3) | C7: ='[1]نشاط 1 '!C7+'[1]نشاط 2'!C7+'[1]نشاط رقم3'!C7+'[1]نشاط رقم 4'!C7+'[1]نشاط رقم 5'!C7+'[1]نشاط رقم 6'!C7+'[1]نشاط 7'!C7 -> 125292788 | D7: 31 | E7: غيرها من المخزون | F7: ='[1]نشاط 1 '!F7+'[1]نشاط 2'!F7+'[1]نشاط رقم3'!F7+'[1]نشاط رقم 4'!F7+'[1]نشاط رقم 5'!F7+'[1]نشاط رقم 6'!F7+'[1]نشاط 7'!F7 -> 5193643
A8: 5 | B8: تخصيصات طويلة الاجل | C8: ='[1]نشاط 1 '!C8+'[1]نشاط 2'!C8+'[1]نشاط رقم3'!C8+'[1]نشاط رقم 4'!C8+'[1]نشاط رقم 5'!C8+'[1]نشاط رقم 6'!C8+'[1]نشاط 7'!C8 -> 1023930 | D8: 32 | E8: أيرادات النشاط الجاري | F8: ='[1]نشاط 1 '!F8+'[1]نشاط 2'!F8+'[1]نشاط رقم3'!F8+'[1]نشاط رقم 4'!F8+'[1]نشاط رقم 5'!F8+'[1]نشاط رقم 6'!F8+'[1]نشاط 7'!F8 -> 51880975
A9: 6 | B9: قروض مستلمة طويلة الأجل | C9: ='[1]نشاط 1 '!C9+'[1]نشاط 2'!C9+'[1]نشاط رقم3'!C9+'[1]نشاط رقم 4'!C9+'[1]نشاط رقم 5'!C9+'[1]نشاط رقم 6'!C9+'[1]نشاط 7'!C9 -> 9190000 | D9: 33 | E9: أيرادات النشاط التجاري | F9: ='[1]نشاط 1 '!F9+'[1]نشاط 2'!F9+'[1]نشاط رقم3'!F9+'[1]نشاط رقم 4'!F9+'[1]نشاط رقم 5'!F9+'[1]نشاط رقم 6'!F9+'[1]نشاط 7'!F9 -> 1351780
A10: 7 | B10: رأس المال المتاح ( 4+ 5+ 6 ) | C10: ='[1]نشاط 1 '!C10+'[1]نشاط 2'!C10+'[1]نشاط رقم3'!C10+'[1]نشاط رقم 4'!C10+'[1]نشاط رقم 5'!C10+'[1]نشاط رقم 6'!C10+'[1]نشاط 7'!C10 -> 135506718 | D10: 34 | E10: أيرادات أخرى | F10: ='[1]نشاط 1 '!F10+'[1]نشاط 2'!F10+'[1]نشاط رقم3'!F10+'[1]نشاط رقم 4'!F10+'[1]نشاط رقم 5'!F10+'[1]نشاط رقم 6'!F10+'[1]نشاط 7'!F10 -> 8491192
A11: 8 | B11: الخصوم المتداولة | C11: ='[1]نشاط 1 '!C11+'[1]نشاط 2'!C11+'[1]نشاط رقم3'!C11+'[1]نشاط رقم 4'!C11+'[1]نشاط رقم 5'!C11+'[1]نشاط رقم 6'!C11+'[1]نشاط 7'!C11 -> 457105400 | D11: 35 | E11: الإنتاج الكلي بسعر السوق ( 32 + 33 + 34 ) | F11: ='[1]نشاط 1 '!F11+'[1]نشاط 2'!F11+'[1]نشاط رقم3'!F11+'[1]نشاط رقم 4'!F11+'[1]نشاط رقم 5'!F11+'[1]نشاط رقم 6'!F11+'[1]نشاط 7'!F11 -> 61723947
A12: 9 | B12: مجموع جانب الخصوم ( 7 + 8 ) | C12: ='[1]نشاط 1 '!C12+'[1]نشاط 2'!C12+'[1]نشاط رقم3'!C12+'[1]نشاط رقم 4'!C12+'[1]نشاط رقم 5'!C12+'[1]نشاط رقم 6'!C12+'[1]نشاط 7'!C12 -> 592612118 | D12: 36 | E12: الإستخدامات الوسيطة | F12: ='[1]نشاط 1 '!F12+'[1]نشاط 2'!F12+'[1]نشاط رقم3'!F12+'[1]نشاط رقم 4'!F12+'[1]نشاط رقم 5'!F12+'[1]نشاط رقم 6'!F12+'[1]نشاط 7'!F12 -> 121783389
A13: 10 | B13: إجمالي الموجودات الثابتة | C13: ='[1]نشاط 1 '!C13+'[1]نشاط 2'!C13+'[1]نشاط رقم3'!C13+'[1]نشاط رقم 4'!C13+'[1]نشاط رقم 5'!C13+'[1]نشاط رقم 6'!C13+'[1]نشاط 7'!C13 -> 63035663 | D13: 37 | E13: القيمة المضافة الإجمالية بسعر السوق ( 35 - 36 ) | F13: ='[1]نشاط 1 '!F13+'[1]نشاط 2'!F13+'[1]نشاط رقم3'!F13+'[1]نشاط رقم 4'!F13+'[1]نشاط رقم 5'!F13+'[1]نشاط رقم 6'!F13+'[1]نشاط 7'!F13 -> -60059442
A14: 11 | B14: انشاءات تحت التنفيذ | C14: ='[1]نشاط 1 '!C14+'[1]نشاط 2'!C14+'[1]نشاط رقم3'!C14+'[1]نشاط رقم 4'!C14+'[1]نشاط رقم 5'!C14+'[1]نشاط رقم 6'!C14+'[1]نشاط 7'!C14 -> 973618 | D14: 38 | E14: الضرائب غير المباشرة | F14: ='[1]نشاط 1 '!F14+'[1]نشاط 2'!F14+'[1]نشاط رقم3'!F14+'[1]نشاط رقم 4'!F14+'[1]نشاط رقم 5'!F14+'[1]نشاط رقم 6'!F14+'[1]نشاط 7'!F14 -> 243369
A15: 12 | B15: مخصص الأندثار المتراكم | C15: ='[1]نشاط 1 '!C15+'[1]نشاط 2'!C15+'[1]نشاط رقم3'!C15+'[1]نشاط رقم 4'!C15+'[1]نشاط رقم 5'!C15+'[1]نشاط رقم 6'!C15+'[1]نشاط 7'!C15 -> 27349667 | D15: 39 | E15: الإعانات | F15: ='[1]نشاط 1 '!F15+'[1]نشاط 2'!F15+'[1]نشاط رقم3'!F15+'[1]نشاط رقم 4'!F15+'[1]نشاط رقم 5'!F15+'[1]نشاط رقم 6'!F15+'[1]نشاط 7'!F15 -> 86040222
... A30: 27 | B30: مجموع جانب الاصول ( 13 + 23 + 25 =9 | C30: ='[1]نشاط 1 '!C30+'[1]نشاط 2'!C30+'[1]نشاط رقم3'!C30+'[1]نشاط رقم 4'!C30+'[1]نشاط رقم 5'!C30+'[1]نشاط رقم 6'!C30+'[1]نشاط 7'!C30 -> 592612118 | D30: 54 | E30: فائض العمليات ( 42 - 53 ) | F30: ='[1]نشاط 1 '!F30+'[1]نشاط 2'!F30+'[1]نشاط رقم3'!F30+'[1]نشاط رقم 4'!F30+'[1]نشاط رقم 5'!F30+'[1]نشاط رقم 6'!F30+'[1]نشاط 7'!F30 -> 5337985

Sheet تجاري مختلط
A1: تحليل مؤشرات مجموع النشاط التجاري للقطاع المختلط لسنة 2023
A2: جدول (2) | F2: ألف دينار
A3: التسلسل | B3: المفـــــــــــــــــــــــردات | C3: المبلـــــغ | D3: التسلسل | E3: المفــــــــــــــــــــــردات | F3: المبلــــــغ
A4: 1 | B4: رأس المال المدفوع | C4: ='[2]فندق بغداد'!C4+[2]منصور!C4+[2]اشور!C4+'[2]فندق بابل'!C4+[2]سدير!C4+[2]عشتار!C4+[2]استثمارات!C4+[2]الشلالات!C4+[2]الموصل!C4+[2]سندباد!C4+'[2]سد موصل'!C4+[2]فلسطين!C4 -> 31847344 | D4: 25 | E4: الأضافات السنوية للموجودات الثابتة | F4: ='[2]فندق بغداد'!F4+[2]منصور!F4+[2]اشور!F4+'[2]فندق بابل'!F4+[2]سدير!F4+[2]عشتار!F4+[2]استثمارات!F4+[2]الشلالات!F4+[2]الموصل!F4+[2]سندباد!F4+'[2]سد موصل'!F4+[2]فلسطين!F4 -> 15654315
A5: 2 | B5: الأرباح المحتجزة | C5: ='[2]فندق بغداد'!C5+[2]منصور!C5+[2]اشور!C5+'[2]فندق بابل'!C5+[2]سدير!C5+[2]عشتار!C5+[2]استثمارات!C5+[2]الشلالات!C5+[2]الموصل!C5+[2]سندباد!C5+'[2]سد موصل'!C5+[2]فلسطين!C5 -> 23885690 | D5: 26 | E5: ايرادات النشاط الجاري | F5: ='[2]فندق بغداد'!F5+[2]منصور!F5+[2]اشور!F5+'[2]فندق بابل'!F5+[2]سدير!F5+[2]عشتار!F5+[2]استثمارات!F5+[2]الشلالات!F5+[2]الموصل!F5+[2]سندباد!F5+'[2]سد موصل'!F5+[2]فلسطين!F5 -> 10932012
A6: 3 | B6: حق الملكية (1+2) | C6: ='[2]فندق بغداد'!C6+[2]منصور!C6+[2]اشور!C6+'[2]فندق بابل'!C6+[2]سدير!C6+[2]عشتار!C6+[2]استثمارات!C6+[2]الشلالات!C6+[2]الموصل!C6+[2]سندباد!C6+'[2]سد موصل'!C6+[2]فلسطين!C6 -> 55733034 | D6: 27 | E6: ايرادات اخرى | F6: ='[2]فندق بغداد'!F6+[2]منصور!F6+[2]اشور!F6+'[2]فندق بابل'!F6+[2]سدير!F6+[2]عشتار!F6+[2]استثمارات!F6+[2]الشلالات!F6+[2]الموصل!F6+[2]سندباد!F6+'[2]سد موصل'!F6+[2]فلسطين!F6 -> 17058886
A7: 4 | B7: تخصيصات طويلة الاجل | C7: ='[2]فندق بغداد'!C7+[2]منصور!C7+[2]اشور!C7+'[2]فندق بابل'!C7+[2]سدير!C7+[2]عشتار!C7+[2]استثمارات!C7+[2]الشلالات!C7+[2]الموصل!C7+[2]سندباد!C7+'[2]سد موصل'!C7+[2]فلسطين!C7 -> 92503 | D7: 28 | E7: كلفة البضاعة المباعة | F7: ='[2]فندق بغداد'!F7+[2]منصور!F7+[2]اشور!F7+'[2]فندق بابل'!F7+[2]سدير!F7+[2]عشتار!F7+[2]استثمارات!F7+[2]الشلالات!F7+[2]الموصل!F7+[2]سندباد!F7+'[2]سد موصل'!F7+[2]فلسطين!F7 -> 535
A8: 5 | B8: قروض طويلة الأجل | C8: ='[2]فندق بغداد'!C8+[2]منصور!C8+[2]اشور!C8+'[2]فندق بابل'!C8+[2]سدير!C8+[2]عشتار!C8+[2]استثمارات!C8+[2]الشلالات!C8+[2]الموصل!C8+[2]سندباد!C8+'[2]سد موصل'!C8+[2]فلسطين!C8 -> 300000 | D8: 29 | E8: قيمة الإنتاج الكلي بسعر السوق(26+27-28) | F8: ='[2]فندق بغداد'!F8+[2]منصور!F8+[2]اشور!F8+'[2]فندق بابل'!F8+[2]سدير!F8+[2]عشتار!F8+[2]استثمارات!F8+[2]الشلالات!F8+[2]الموصل!F8+[2]سندباد!F8+'[2]سد موصل'!F8+[2]فلسطين!F8 -> 27990363
A9: 6 | B9: رأس المال المتاح = (3+4+5) | C9: ='[2]فندق بغداد'!C9+[2]منصور!C9+[2]اشور!C9+'[2]فندق بابل'!C9+[2]سدير!C9+[2]عشتار!C9+[2]استثمارات!C9+[2]الشلالات!C9+[2]الموصل!C9+[2]سندباد!C9+'[2]سد موصل'!C9+[2]فلسطين!C9 -> 56125537 | D9: 30 | E9: الاستخدامات الوسيطة | F9: ='[2]فندق بغداد'!F9+[2]منصور!F9+[2]اشور!F9+'[2]فندق بابل'!F9+[2]سدير!F9+[2]عشتار!F9+[2]استثمارات!F9+[2]الشلالات!F9+[2]الموصل!F9+[2]سندباد!F9+'[2]سد موصل'!F9+[2]فلسطين!F9 -> 7557816
A10: 7 | B10: الخصوم المتداولة | C10: ='[2]فندق بغداد'!C10+[2]منصور!C10+[2]اشور!C10+'[2]فندق بابل'!C10+[2]سدير!C10+[2]عشتار!C10+[2]استثمارات!C10+[2]الشلالات!C10+[2]الموصل!C10+[2]سندباد!C10+'[2]سد موصل'!C10+[2]فلسطين!C10 -> 58602187 | D10: 31 | E10: القيمة المضافة الاجمالية بسعر السوق (29-30) | F10: ='[2]فندق بغداد'!F10+[2]منصور!F10+[2]اشور!F10+'[2]فندق بابل'!F10+[2]سدير!F10+[2]عشتار!F10+[2]استثمارات!F10+[2]الشلالات!F10+[2]الموصل!F10+[2]سندباد!F10+'[2]سد موصل'!F10+[2]فلسطين!F10 -> 20432547
A11: 8 | B11: مجموع جانب الخصوم (6+7) | C11: ='[2]فندق بغداد'!C11+[2]منصور!C11+[2]اشور!C11+'[2]فندق بابل'!C11+[2]سدير!C11+[2]عشتار!C11+[2]استثمارات!C11+[2]الشلالات!C11+[2]الموصل!C11+[2]سندباد!C11+'[2]سد موصل'!C11+[2]فلسطين!C11 -> 114727724 | D11: 32 | E11: الضرائب غير المباشرة | F11: ='[2]فندق بغداد'!F11+[2]منصور!F11+[2]اشور!F11+'[2]فندق بابل'!F11+[2]سدير!F11+[2]عشتار!F11+[2]استثمارات!F11+[2]الشلالات!F11+[2]الموصل!F11+[2]سندباد!F11+'[2]سد موصل'!F11+[2]فلسطين!F11 -> 1106310
A12: 9 | B12: إجمالي الموجودات الثابتة | C12: ='[2]فندق بغداد'!C12+[2]منصور!C12+[2]اشور!C12+'[2]فندق بابل'!C12+[2]سدير!C12+[2]عشتار!C12+[2]استثمارات!C12+[2]الشلالات!C12+[2]الموصل!C12+[2]سندباد!C12+'[2]سد موصل'!C12+[2]فلسطين!C12 -> 29236814 | D12: 33 | E12: الاعانات | F12: ='[2]فندق بغداد'!F12+[2]منصور!F12+[2]اشور!F12+'[2]فندق بابل'!F12+[2]سدير!F12+[2]عشتار!F12+[2]استثمارات!F12+[2]الشلالات!F12+[2]الموصل!F12+[2]سندباد!F12+'[2]سد موصل'!F12+[2]فلسطين!F12 -> 0
A13: 10 | B13: انشاءات تحت التنفيذ | C13: ='[2]فندق بغداد'!C13+[2]منصور!C13+[2]اشور!C13+'[2]فندق بابل'!C13+[2]سدير!C13+[2]عشتار!C13+[2]استثمارات!C13+[2]الشلالات!C13+[2]الموصل!C13+[2]سندباد!C13+'[2]سد موصل'!C13+[2]فلسطين!C13 -> 596821 | D13: 34 | E13: القيمة المضافة الإجمالية بالكلفة (31-32+33) | F13: ='[2]فندق بغداد'!F13+[2]منصور!F13+[2]اشور!F13+'[2]فندق بابل'!F13+[2]سدير!F13+[2]عشتار!F13+[2]استثمارات!F13+[2]الشلالات!F13+[2]الموصل!F13+[2]سندباد!F13+'[2]سد موصل'!F13+[2]فلسطين!F13 -> 19326237
A14: 11 | B14: الاندثارات المتراكمة | C14: ='[2]فندق بغداد'!C14+[2]منصور!C14+[2]اشور!C14+'[2]فندق بابل'!C14+[2]سدير!C14+[2]عشتار!C14+[2]استثمارات!C14+[2]الشلالات!C14+[2]الموصل!C14+[2]سندباد!C14+'[2]سد موصل'!C14+[2]فلسطين!C14 -> 13042678 | D14: 35 | E14: الاندثارات السنوية | F14: ='[2]فندق بغداد'!F14+[2]منصور!F14+[2]اشور!F14+'[2]فندق بابل'!F14+[2]سدير!F14+[2]عشتار!F14+[2]استثمارات!F14+[2]الشلالات!F14+[2]الموصل!F14+[2]سندباد!F14+'[2]سد موصل'!F14+[2]فلسطين!F14 -> 1306387
A15: 12 | B15: صافي الاصول الثابتة (9+10-11) | C15: ='[2]فندق بغداد'!C15+[2]منصور!C15+[2]اشور!C15+'[2]فندق بابل'!C15+[2]سدير!C15+[2]عشتار!C15+[2]استثمارات!C15+[2]الشلالات!C15+[2]الموصل!C15+[2]سندباد!C15+'[2]سد موصل'!C15+[2]فلسطين!C15 -> 16790957 | D15: 36 | E15: القيمة المضافة الصافية بالكلفة (34-35) | F15: ='[2]فندق بغداد'!F15+[2]منصور!F15+[2]اشور!F15+'[2]فندق بابل'!F15+[2]سدير!F15+[2]عشتار!F15+[2]استثمارات!F15+[2]الشلالات!F15+[2]الموصل!F15+[2]سندباد!F15+'[2]سد موصل'!F15+[2]فلسطين!F15 -> 18019850
... A27: 24 | B27: مجموع جانب الاصول (12+20+22) =800 | C27: ='[2]فندق بغداد'!C27+[2]منصور!C27+[2]اشور!C27+'[2]فندق بابل'!C27+[2]سدير!C27+[2]عشتار!C27+[2]استثمارات!C27+[2]الشلالات!C27+[2]الموصل!C27+[2]سندباد!C27+'[2]سد موصل'!C27+[2]فلسطين!C27 -> 114727724 | D27: 48 | E27: فائض العمليات ( 36-47) | F27: ='[2]فندق بغداد'!F27+[2]منصور!F27+[2]اشور!F27+'[2]فندق بابل'!F27+[2]سدير!F27+[2]عشتار!F27+[2]استثمارات!F27+[2]الشلالات!F27+[2]الموصل!F27+[2]سندباد!F27+'[2]سد موصل'!F27+[2]فلسطين!F27 -> 8521217

Sheet نقل مختلط
A1: تحليل مؤشرات مجموع نشاط النقل للقطاع المختلط لسنة 2023
A2: جدول (3) | F2: ألف دينار
A3: التسلسل | B3: المفـــــــــــــــــــــــــردات | C3: المبلـــغ | D3: التسلسل | E3: المفــــــــــــــــــــــــــردات | F3: المبلــــغ
A4: 1 | B4: رأس المال المدفوع | C4: ='[2]بغداد العراق'!C4 -> 1300000 | D4: 25 | E4: الأضافات السنوية للموجودات الثابتة | F4: ='[2]بغداد العراق'!F4 -> 8119772
A5: 2 | B5: الأرباح المحتجزة | C5: ='[2]بغداد العراق'!C5 -> 6397137 | D5: 26 | E5: ايرادات النشاط الجاري | F5: ='[2]بغداد العراق'!F5 -> 0
A6: 3 | B6: حق الملكية (1+2) | C6: ='[2]بغداد العراق'!C6 -> 7697137 | D6: 27 | E6: ايرادات اخرى | F6: ='[2]بغداد العراق'!F6 -> 3033128
A7: 4 | B7: تخصيصات طويلة الاجل | C7: ='[2]بغداد العراق'!C7 -> 0 | D7: 28 | E7: كلفة البضاعة المباعة | F7: ='[2]بغداد العراق'!F7 -> 0
A8: 5 | B8: قروض طويلة الأجل | C8: ='[2]بغداد العراق'!C8 -> 0 | D8: 29 | E8: قيمة الإنتاج الكلي بسعر السوق(26+27-28) | F8: ='[2]بغداد العراق'!F8 -> 3033128
A9: 6 | B9: رأس المال المتاح = (3+4+5) | C9: ='[2]بغداد العراق'!C9 -> 7697137 | D9: 30 | E9: الاستخدامات الوسيطة | F9: ='[2]بغداد العراق'!F9 -> 58063
A10: 7 | B10: الخصوم المتداولة | C10: ='[2]بغداد العراق'!C10 -> 1872118 | D10: 31 | E10: القيمة المضافة الاجمالية بسعر السوق (29-30) | F10: ='[2]بغداد العراق'!F10 -> 2975065
A11: 8 | B11: مجموع جانب الخصوم (6+7) | C11: ='[2]بغداد العراق'!C11 -> 9569255 | D11: 32 | E11: الضرائب غير المباشرة | F11: ='[2]بغداد العراق'!F11 -> 304765
A12: 9 | B12: إجمالي الموجودات الثابتة | C12: ='[2]بغداد العراق'!C12 -> 705751 | D12: 33 | E12: الاعانات | F12: ='[2]بغداد العراق'!F12 -> 0
A13: 10 | B13: انشاءات تحت التنفيذ | C13: ='[2]بغداد العراق'!C13 -> 1768493 | D13: 34 | E13: القيمة المضافة الإجمالية بالكلفة (31-32+33) | F13: ='[2]بغداد العراق'!F13 -> 2670300
A14: 11 | B14: الاندثارات المتراكمة | C14: ='[2]بغداد العراق'!C14 -> 0 | D14: 35 | E14: الاندثارات السنوية | F14: ='[2]بغداد العراق'!F14 -> 101388
A15: 12 | B15: صافي الاصول الثابتة (9+10-11) | C15: ='[2]بغداد العراق'!C15 -> 2474244 | D15: 36 | E15: القيمة المضافة الصافية بالكلفة (34-35) | F15: ='[2]بغداد العراق'!F15 -> 2568912
... A27: 24 | B27: مجموع جانب الاصول (12+20+22) =800 | C27: ='[2]بغداد العراق'!C27 -> 9569255 | D27: 48 | E27: فائض العمليات ( 36-47) | F27: ='[2]بغداد العراق'!F27 -> 2104425
